BEGIN:VCALENDAR
VERSION:2.0
PRODID:-//San Francisco Baking Institute - ECPv6.15.20//NONSGML v1.0//EN
CALSCALE:GREGORIAN
METHOD:PUBLISH
X-ORIGINAL-URL:https://sfbi.com
X-WR-CALDESC:Events for San Francisco Baking Institute
REFRESH-INTERVAL;VALUE=DURATION:PT1H
X-Robots-Tag:noindex
X-PUBLISHED-TTL:PT1H
BEGIN:VTIMEZONE
TZID:America/Los_Angeles
BEGIN:DAYLIGHT
TZOFFSETFROM:-0800
TZOFFSETTO:-0700
TZNAME:PDT
DTSTART:20240310T100000
END:DAYLIGHT
BEGIN:STANDARD
TZOFFSETFROM:-0700
TZOFFSETTO:-0800
TZNAME:PST
DTSTART:20241103T090000
END:STANDARD
BEGIN:DAYLIGHT
TZOFFSETFROM:-0800
TZOFFSETTO:-0700
TZNAME:PDT
DTSTART:20250309T100000
END:DAYLIGHT
BEGIN:STANDARD
TZOFFSETFROM:-0700
TZOFFSETTO:-0800
TZNAME:PST
DTSTART:20251102T090000
END:STANDARD
BEGIN:DAYLIGHT
TZOFFSETFROM:-0800
TZOFFSETTO:-0700
TZNAME:PDT
DTSTART:20260308T100000
END:DAYLIGHT
BEGIN:STANDARD
TZOFFSETFROM:-0700
TZOFFSETTO:-0800
TZNAME:PST
DTSTART:20261101T090000
END:STANDARD
END:VTIMEZONE
BEGIN:VEVENT
DTSTART;TZID=America/Los_Angeles:20250310T073000
DTEND;TZID=America/Los_Angeles:20250311T153000
DTSTAMP:20260419T101112
CREATED:20241031T211356Z
LAST-MODIFIED:20250422T202030Z
UID:34393-1741591800-1741707000@sfbi.com
SUMMARY:2 Days Cakes at Home
DESCRIPTION:Course Description\nIn this 2-day class\, you will learn the various techniques of making cakes that are chemically leavened and those made with Egg-foam\, European-style buttercreams\, American icings\, ganache\, mousseline\, fruit fillings and chocolate decor. Students will also learn how to stack layer cakes as well as how to assemble roll cakes or roulades. You will be assembling fresh fruit cakes\, cooked fruit compotes and learning to make chocolate curls. \nWe have selected 3 fabulous full-sized cakes to be taught in this class\, that cover a large variety of cake bases\, fillings\, frostings\, and decor aspects. Armed with this technical knowledge\, the possibilities of customizing cakes become endless. \nHands-on: Peanut butter chocolate layer cake\, Inakati roulade and Fraisier Cake \nCheck-in \nIf you have any concerns or questions before traveling to SFBI\, email us at: customerservice@sfbi.com we want to make sure you have the best experience while learning here. That you feel safe and comfortable. \nThe class will begin at 7:30 AM on Monday and  7:00 AM Tuesday morning. We will have breakfast pastries ready for you 30 minutes before class starts. (if you have any special diet please let us know in advance) We also welcome you to bring your own drink. Feel free to contact: customerservice@sfbi.com \nWhat’s included? \n\nBreakfast Pastry\nCoffee\, Tea & Water\nLight Lunch* (See note below)\nBinder with recipes and any relevant lecture notes or reference pages\nTake home as much or as little pastry or bread you make in class! Whatever doesn’t get brought home gets donated to various organizations in the area.\n\n*Note on Breakfast Pastry and Lunches \nGenerally\, former students have found the offerings to be adequate however\, it wouldn’t hurt to pack supplemental snacks since everyone’s appetites can vary. While our team can try to make accommodations for special diets\, we suggest packing supplemental protein and/or snack options as the menu largely depends on staffing and staff capacity. \nBelow is a sample menu that can vary: \n\nDeli meat\, tomato\, and avocado sandwich with chips and a side salad (deli meat varies)\nSlice of quiche with a side salad\nChicken and Rice (chicken flavor varies)\nSoup/Stew (soup flavor varies)\nChicken Tinga & Cauliflower Ceviche\n\nCancellation policy\nAny notice of cancellation or transfers\, please refer to our cancellation policy link HERE. \nCourse Materials\nListed below are the items you must bring to class. \n\nPens or pencils. You will use these to take notes in the classroom and the lab.\nPermanent marker. This piece of “equipment” is invaluable in the labs.\nHair restraint. For safety and sanitation\, you must restrain your hair if it’s long.\n\nAttire\n\nClosed-toe\, comfortable shoes. Your shoes must be closed for safety. They should be comfortable enough to stand in all day.\nFor safety\, your pants must cover your entire legs. For your comfort\, we recommend breathable pants. Checked chef’s pants are popular because they don’t show flour spills or stains.\nWhite chef’s coat. This is optional item. However\, we strongly recommend chef’s coats because they look professional and protect your body and clothing. Most importantly\, they keep you warm when it’s cold and cool when it’s hot.\n\nTransportation:\nThere is parking at our location. The address of SFBI is: 525 DNA Way South San Francisco\, CA 94080
URL:https://sfbi.com/event/2-days-cakes-at-home-2/
LOCATION:San Francisco Baking Institute\, 525 DNA way\, South San Francisco\, CA\, 94080\, United States
CATEGORIES:Cakes
ATTACH;FMTTYPE=image/jpeg:https://sfbi.com/wp-content/uploads/2023/02/2Days-CakeHome.jpg
ORGANIZER;CN="San Francisco Baking Institute":MAILTO:customerservice@sfbi.com
END:VEVENT
END:VCALENDAR