BEGIN:VCALENDAR
VERSION:2.0
PRODID:-//San Francisco Baking Institute - ECPv6.15.20//NONSGML v1.0//EN
CALSCALE:GREGORIAN
METHOD:PUBLISH
X-WR-CALNAME:San Francisco Baking Institute
X-ORIGINAL-URL:https://sfbi.com
X-WR-CALDESC:Events for San Francisco Baking Institute
REFRESH-INTERVAL;VALUE=DURATION:PT1H
X-Robots-Tag:noindex
X-PUBLISHED-TTL:PT1H
BEGIN:VTIMEZONE
TZID:America/Los_Angeles
BEGIN:DAYLIGHT
TZOFFSETFROM:-0800
TZOFFSETTO:-0700
TZNAME:PDT
DTSTART:20250309T100000
END:DAYLIGHT
BEGIN:STANDARD
TZOFFSETFROM:-0700
TZOFFSETTO:-0800
TZNAME:PST
DTSTART:20251102T090000
END:STANDARD
BEGIN:DAYLIGHT
TZOFFSETFROM:-0800
TZOFFSETTO:-0700
TZNAME:PDT
DTSTART:20260308T100000
END:DAYLIGHT
BEGIN:STANDARD
TZOFFSETFROM:-0700
TZOFFSETTO:-0800
TZNAME:PST
DTSTART:20261101T090000
END:STANDARD
BEGIN:DAYLIGHT
TZOFFSETFROM:-0800
TZOFFSETTO:-0700
TZNAME:PDT
DTSTART:20270314T100000
END:DAYLIGHT
BEGIN:STANDARD
TZOFFSETFROM:-0700
TZOFFSETTO:-0800
TZNAME:PST
DTSTART:20271107T090000
END:STANDARD
END:VTIMEZONE
BEGIN:VEVENT
DTSTART;TZID=America/Los_Angeles:20260507T073000
DTEND;TZID=America/Los_Angeles:20260508T153000
DTSTAMP:20260420T023917
CREATED:20260117T003048Z
LAST-MODIFIED:20260327T223755Z
UID:38339-1778139000-1778254200@sfbi.com
SUMMARY:2 Days Japanese Home Baking
DESCRIPTION:*WAITLIST CLOSED*\nPrerequisites:\nNone \nCourse Description\nIn this 2-day Japanese Home Baking class\, you combine both pastry and bread skills to learn techniques for creating airy chiffon cake\, fluffy Japanese cheesecake\, melon pan & more! \nCheck-in\nThe class will begin at 7:30 AM on day one and at 7:00 AM subsequent days. We will have breakfast pastries ready for you 30 minutes before class starts. (if you have any special diet please let us know in advance) We also welcome you to bring your own drink. Feel free to contact: customerservice@sfbi.com \nWhat’s included?\n\nBreakfast Pastry\nCoffee\, Tea & Water\nLight Lunch* (See note below)\nBinder with recipes and any relevant lecture notes or reference pages\nTake home as much or as little pastry or bread you make in class! Whatever doesn’t get brought home gets donated to various organizations in the area.\n\n*Note on Breakfast Pastry and Lunches \nGenerally\, former students have found the offerings to be adequate however\, it wouldn’t hurt to pack supplemental snacks since everyone’s appetites can vary. While our team can try to make accommodations for special diets\, we suggest packing supplemental protein and/or snack options as the menu largely depends on staffing and staff capacity. \nBelow is a sample menu that can vary: \n\nDeli meat\, tomato\, and avocado sandwich with chips and a side salad (deli meat varies)\nSlice of quiche with a side salad\nChicken and Rice (chicken flavor varies)\nSoup/Stew (soup flavor varies)\nChicken Tinga & Cauliflower Ceviche\n\nCancellation policy\nAny notice of cancellation or transfers\, please refer to our cancellation policy link HERE. \nCourse Materials\nListed below are the items you must bring to class. \n\nPens or pencils. You will use these to take notes in the classroom and the lab.\nPermanent marker. This piece of “equipment” is invaluable in the labs.\nHair restraint. For safety and sanitation\, you must restrain your hair if it’s long.\n\nAttire\n\nClosed-toe\, comfortable shoes. Your shoes must be closed for safety. They should be comfortable enough to stand in all day.\nFor safety\, your pants must cover your entire legs. For your comfort\, we recommend breathable pants. Checked chef’s pants are popular because they don’t show flour spills or stains.\nWhite chef’s coat. This is optional item. However\, we strongly recommend chef’s coats because they look professional and protect your body and clothing. Most importantly\, they keep you warm when it’s cold and cool when it’s hot.\n\nTransportation:\nThere is parking at our location. The address of SFBI is: 525 DNA Way South San Francisco\, CA 94080
URL:https://sfbi.com/event/2-days-japanese-home-baking-12/
LOCATION:San Francisco Baking Institute\, 525 DNA way\, South San Francisco\, CA\, 94080\, United States
CATEGORIES:2 days workshops,Home Baker Workshops (In-person Class),Viennoiserie and Pastry Workshops
ATTACH;FMTTYPE=image/jpeg:https://sfbi.com/wp-content/uploads/2024/10/Website-Tile.jpg
ORGANIZER;CN="San Francisco Baking Institute":MAILTO:customerservice@sfbi.com
END:VEVENT
BEGIN:VEVENT
DTSTART;TZID=America/Los_Angeles:20260511T073000
DTEND;TZID=America/Los_Angeles:20260512T153000
DTSTAMP:20260420T023917
CREATED:20260117T000434Z
LAST-MODIFIED:20260416T214004Z
UID:38329-1778484600-1778599800@sfbi.com
SUMMARY:2 Days Viennoiserie for Home Baker
DESCRIPTION:Course Description\nEver wondered how to create crisp\, flaky croissants at home\, or a light and tender brioche? Take this intensive two-day course and learn how to make various viennoiserie items. In this class\, students will be introduced to mixing and lamination techniques specifically designed for home baking. Students will make their own products from start to finish. Finished products will include traditional croissants\, chocolate croissants\, various Danishes\, brioche à tête\, brioche sucrée and brioche tarts. Impress your friends and family with a wide selection of beautiful pastries. \nCheck-in\nIf you have any concerns or questions before traveling to SFBI\, email us at: customerservice@sfbi.com we want to make sure you have the best experience while learning here. That you feel safe and comfortable. \nThe class will begin at 7:30 AM on Monday morning and at 7:00 AM after Monday. We will have breakfast pastries ready for you 30 minutes before class starts. (if you have any special diet please let us know in advance) We also welcome you to bring your own drink. Feel free to contact: customerservice@sfbi.com \nWhat’s included?\n\nBreakfast Pastry\nCoffee\, Tea & Water\nLight Lunch* (See note below)\nBinder with recipes and any relevant lecture notes or reference pages\nTake home as much or as little pastry or bread you make in class! Whatever doesn’t get brought home gets donated to various organizations in the area.\n\n*Note on Breakfast Pastry and Lunches \nGenerally\, former students have found the offerings to be adequate however\, it wouldn’t hurt to pack supplemental snacks since everyone’s appetites can vary. While our team can try to make accommodations for special diets\, we suggest packing supplemental protein and/or snack options as the menu largely depends on staffing and staff capacity. \nBelow is a sample menu that can vary: \n\nDeli meat\, tomato\, and avocado sandwich with chips and a side salad (deli meat varies)\nSlice of quiche with a side salad\nChicken and Rice (chicken flavor varies)\nSoup/Stew (soup flavor varies)\nChicken Tinga & Cauliflower Ceviche\n\nCancellation policy\nAny notice of cancellation or transfers\, please refer to our cancellation policy link HERE. \nCourse Materials\nListed below are the items you must bring to class. \n\nPens or pencils. You will use these to take notes in the classroom and the lab.\nPermanent marker. This piece of “equipment” is invaluable in the labs.\nHair restraint. For safety and sanitation\, you must restrain your hair if it’s long.\n\nAttire\n\nClosed-toe\, comfortable shoes. Your shoes must be closed for safety. They should be comfortable enough to stand in all day.\nFor safety\, your pants must cover your entire legs. For your comfort\, we recommend breathable pants. Checked chef’s pants are popular because they don’t show flour spills or stains.\nWhite chef’s coat. This is optional item. However\, we strongly recommend chef’s coats because they look professional and protect your body and clothing. Most importantly\, they keep you warm when it’s cold and cool when it’s hot.\n\nTransportation:\nThere is parking at our location. The address of SFBI is: 525 DNA Way South San Francisco\, CA 94080
URL:https://sfbi.com/event/2-days-viennoiserie-for-home-baker-13/
LOCATION:San Francisco Baking Institute\, 525 DNA way\, South San Francisco\, CA\, 94080\, United States
CATEGORIES:2 days workshops,Home Baker Workshops (In-person Class),Viennoiserie and Pastry Workshops
ATTACH;FMTTYPE=image/jpeg:https://sfbi.com/wp-content/uploads/2022/10/2DayViennoiserieHome-Tn2.jpg
ORGANIZER;CN="San Francisco Baking Institute":MAILTO:customerservice@sfbi.com
END:VEVENT
BEGIN:VEVENT
DTSTART;TZID=America/Los_Angeles:20260514T073000
DTEND;TZID=America/Los_Angeles:20260515T153000
DTSTAMP:20260420T023917
CREATED:20260210T223645Z
LAST-MODIFIED:20260327T223847Z
UID:38534-1778743800-1778859000@sfbi.com
SUMMARY:2 Days Japanese Home Baking
DESCRIPTION:*WAITLIST CLOSED*\nPrerequisites:\nNone \nCourse Description\nIn this 2-day Japanese Home Baking class\, you combine both pastry and bread skills to learn techniques for creating airy chiffon cake\, fluffy Japanese cheesecake\, melon pan & more! \nCheck-in\nThe class will begin at 7:30 AM on day one and at 7:00 AM subsequent days. We will have breakfast pastries ready for you 30 minutes before class starts. (if you have any special diet please let us know in advance) We also welcome you to bring your own drink. Feel free to contact: customerservice@sfbi.com \nWhat’s included?\n\nBreakfast Pastry\nCoffee\, Tea & Water\nLight Lunch* (See note below)\nBinder with recipes and any relevant lecture notes or reference pages\nTake home as much or as little pastry or bread you make in class! Whatever doesn’t get brought home gets donated to various organizations in the area.\n\n*Note on Breakfast Pastry and Lunches \nGenerally\, former students have found the offerings to be adequate however\, it wouldn’t hurt to pack supplemental snacks since everyone’s appetites can vary. While our team can try to make accommodations for special diets\, we suggest packing supplemental protein and/or snack options as the menu largely depends on staffing and staff capacity. \nBelow is a sample menu that can vary: \n\nDeli meat\, tomato\, and avocado sandwich with chips and a side salad (deli meat varies)\nSlice of quiche with a side salad\nChicken and Rice (chicken flavor varies)\nSoup/Stew (soup flavor varies)\nChicken Tinga & Cauliflower Ceviche\n\nCancellation policy\nAny notice of cancellation or transfers\, please refer to our cancellation policy link HERE. \nCourse Materials\nListed below are the items you must bring to class. \n\nPens or pencils. You will use these to take notes in the classroom and the lab.\nPermanent marker. This piece of “equipment” is invaluable in the labs.\nHair restraint. For safety and sanitation\, you must restrain your hair if it’s long.\n\nAttire\n\nClosed-toe\, comfortable shoes. Your shoes must be closed for safety. They should be comfortable enough to stand in all day.\nFor safety\, your pants must cover your entire legs. For your comfort\, we recommend breathable pants. Checked chef’s pants are popular because they don’t show flour spills or stains.\nWhite chef’s coat. This is optional item. However\, we strongly recommend chef’s coats because they look professional and protect your body and clothing. Most importantly\, they keep you warm when it’s cold and cool when it’s hot.\n\nTransportation:\nThere is parking at our location. The address of SFBI is: 525 DNA Way South San Francisco\, CA 94080
URL:https://sfbi.com/event/2-days-japanese-home-baking-13/
LOCATION:San Francisco Baking Institute\, 525 DNA way\, South San Francisco\, CA\, 94080\, United States
CATEGORIES:2 days workshops,Home Baker Workshops (In-person Class),Viennoiserie and Pastry Workshops
ATTACH;FMTTYPE=image/jpeg:https://sfbi.com/wp-content/uploads/2024/10/Website-Tile.jpg
ORGANIZER;CN="San Francisco Baking Institute":MAILTO:customerservice@sfbi.com
END:VEVENT
BEGIN:VEVENT
DTSTART;TZID=America/Los_Angeles:20260518T073000
DTEND;TZID=America/Los_Angeles:20260522T153000
DTSTAMP:20260420T023917
CREATED:20251015T042456Z
LAST-MODIFIED:20260414T193045Z
UID:37237-1779089400-1779463800@sfbi.com
SUMMARY:Viennoiserie I: Croissants\, Danish\, and Brioche
DESCRIPTION:Prerequisites:\nThis class will be easier to follow if you have had Artisan I previously. The instructor does not spend much time reviewing the foundations of bread baking in Viennoiserie I. \nCourse Description\nThe interest in laminated dough such as Croissant\, Danish and Brioche is rising considerably. The quality of Viennoiserie in America is finally starting to catch up to the quality of well-crafted artisan breads. \nUtilize the steps of bread baking to mix\, shape and bake various Viennoiserie from croissants to brioche. Learn how to laminate dough for flaky products by machine and by hand. \nWhat Will You Make?:\n\nVarious toppings and fillings\nCroissant dough\nWhole Wheat Croissants\nPuff Pastry\nBrioche\n& more!\n\nFor more information on the class including class schedule and table of contents\, email us at: customerservice@sfbi.com. \nClass Sold Out? Email us to get on the waitlist! \nCheck-in\nIf you have any concerns or questions before traveling to SFBI\, email us at: customerservice@sfbi.com we want to make sure you have the best experience while learning here. That you feel safe and comfortable. \nThe class will begin at 7:30 AM on Monday morning and at 7:00 AM after Monday. We will have breakfast pastries ready for you 30 minutes before class starts. (if you have any special diet please let us know in advance) We also welcome you to bring your own drink. Feel free to contact: customerservice@sfbi.com \nWhat’s included?\n\nBreakfast Pastry\nCoffee\, Tea & Water\nLight Lunch* (See note below)\nBinder with recipes and any relevant lecture notes or reference pages\nTake home as much or as little pastry or bread you make in class! Whatever doesn’t get brought home gets donated to various organizations in the area.\n\n*Note on Breakfast Pastry and Lunches \nGenerally\, former students have found the offerings to be adequate however\, it wouldn’t hurt to pack supplemental snacks since everyone’s appetites can vary. While our team can try to make accommodations for special diets\, we suggest packing supplemental protein and/or snack options as the menu largely depends on staffing and staff capacity. \nBelow is a sample menu that can vary: \n\nDeli meat\, tomato\, and avocado sandwich with chips and a side salad (deli meat varies)\nSlice of quiche with a side salad\nChicken and Rice (chicken flavor varies)\nSoup/Stew (soup flavor varies)\nChicken Tinga & Cauliflower Ceviche\n\nCancellation policy\n\nAny notice of cancellation or transfers\, please refer to our cancellation policy link HERE.\n\nCourse Materials\nListed below are the items you must bring to class. \n\nPens or pencils. You will use these to take notes in the classroom and the lab.\nPermanent marker. This piece of “equipment” is invaluable in the labs.\nHair restraint. For safety and sanitation\, you must restrain your hair if it’s long.\n\nAttire\n\nClosed-toe\, comfortable shoes. Your shoes must be closed for safety. They should be comfortable enough to stand in all day.\nFor safety\, your pants must cover your entire legs. For your comfort\, we recommend breathable pants. Checked chef’s pants are popular because they don’t show flour spills or stains.\nWhite chef’s coat. This is optional item. However\, we strongly recommend chef’s coats because they look professional and protect your body and clothing. Most importantly\, they keep you warm when it’s cold and cool when it’s hot.\n\nTransportation:\nThere is parking at our location. The address of SFBI is: 525 DNA Way South San Francisco\, CA 94080
URL:https://sfbi.com/event/viennoiserie-i-croissants-danish-and-brioche-21/
LOCATION:San Francisco Baking Institute\, 525 DNA way\, South San Francisco\, CA\, 94080\, United States
CATEGORIES:Home Baker Workshops (In-person Class),Viennoiserie and Pastry Workshops
ATTACH;FMTTYPE=image/jpeg:https://sfbi.com/wp-content/uploads/2022/10/ViennoiserieI-Tn.jpg
ORGANIZER;CN="San Francisco Baking Institute":MAILTO:customerservice@sfbi.com
END:VEVENT
BEGIN:VEVENT
DTSTART;TZID=America/Los_Angeles:20260528T073000
DTEND;TZID=America/Los_Angeles:20260529T153000
DTSTAMP:20260420T023917
CREATED:20260324T170910Z
LAST-MODIFIED:20260415T215310Z
UID:38913-1779953400-1780068600@sfbi.com
SUMMARY:Private
DESCRIPTION:Content is protected.
URL:https://sfbi.com/event/2-days-japanese-home-baking-15/
LOCATION:San Francisco Baking Institute\, 525 DNA way\, South San Francisco\, CA\, 94080\, United States
CATEGORIES:2 days workshops,Home Baker Workshops (In-person Class),Viennoiserie and Pastry Workshops
ORGANIZER;CN="San Francisco Baking Institute":MAILTO:customerservice@sfbi.com
END:VEVENT
END:VCALENDAR